BEGIN:VCALENDAR
VERSION:2.0
PRODID:icalendar-ruby
CALSCALE:GREGORIAN
METHOD:PUBLISH
BEGIN:VEVENT
DTSTAMP:20260426T030100Z
UID:18-264084@htacc.ca
DTSTART:20260927T190000Z
DTEND:20260927T200000Z
CLASS:PUBLIC
CREATED:20260425T200422
DESCRIPTION:A Christian service in your native Korean language. Join Rev. J
 oshua Kwak in worship of our Saviour and Lord.
LAST-MODIFIED:20260425T200422
LOCATION:18 Hidden Creek Rd NW\, Calgary\, AB
SUMMARY:Korean Church Service
URL;VALUE=URI:https://www.htacc.ca/events/korean-church-service/2026-09-27
END:VEVENT
END:VCALENDAR
