BEGIN:VCALENDAR
VERSION:2.0
PRODID:icalendar-ruby
CALSCALE:GREGORIAN
METHOD:PUBLISH
BEGIN:VEVENT
DTSTAMP:20260425T143638Z
UID:7-263377@htacc.ca
DTSTART:20260802T160000Z
DTEND:20260802T173000Z
CLASS:PUBLIC
CREATED:20260425T063747
DESCRIPTION:
LAST-MODIFIED:20260425T063747
LOCATION:18 Hidden Creek Rd NW\, Calgary\, AB
SUMMARY:Sunday Worship
URL;VALUE=URI:https://www.htacc.ca/events/sunday-worship/2026-08-02
END:VEVENT
END:VCALENDAR
