BEGIN:VCALENDAR
VERSION:2.0
PRODID:icalendar-ruby
CALSCALE:GREGORIAN
METHOD:PUBLISH
BEGIN:VEVENT
DTSTAMP:20260425T173226Z
UID:7-263504@htacc.ca
DTSTART:20260816T160000Z
DTEND:20260816T173000Z
CLASS:PUBLIC
CREATED:20260425T091842
DESCRIPTION:
LAST-MODIFIED:20260425T091842
LOCATION:18 Hidden Creek Rd NW\, Calgary\, AB
SUMMARY:Sunday Worship
URL;VALUE=URI:https://www.htacc.ca/events/sunday-worship/2026-08-16
END:VEVENT
END:VCALENDAR
