BEGIN:VCALENDAR
VERSION:2.0
PRODID:icalendar-ruby
CALSCALE:GREGORIAN
METHOD:PUBLISH
BEGIN:VEVENT
DTSTAMP:20260425T191333Z
UID:7-263630@htacc.ca
DTSTART:20260823T160000Z
DTEND:20260823T173000Z
CLASS:PUBLIC
CREATED:20260425T115836
DESCRIPTION:
LAST-MODIFIED:20260425T115836
LOCATION:18 Hidden Creek Rd NW\, Calgary\, AB
SUMMARY:Sunday Worship
URL;VALUE=URI:https://www.htacc.ca/events/sunday-worship/2026-08-23
END:VEVENT
END:VCALENDAR
