BEGIN:VCALENDAR
VERSION:2.0
PRODID:icalendar-ruby
CALSCALE:GREGORIAN
METHOD:PUBLISH
BEGIN:VEVENT
DTSTAMP:20260425T220903Z
UID:7-263757@htacc.ca
DTSTART:20260906T160000Z
DTEND:20260906T173000Z
CLASS:PUBLIC
CREATED:20260425T144011
DESCRIPTION:
LAST-MODIFIED:20260425T144011
LOCATION:18 Hidden Creek Rd NW\, Calgary\, AB
SUMMARY:Sunday Worship
URL;VALUE=URI:https://www.htacc.ca/events/sunday-worship/2026-09-06
END:VEVENT
END:VCALENDAR
