BEGIN:VCALENDAR
VERSION:2.0
PRODID:icalendar-ruby
CALSCALE:GREGORIAN
METHOD:PUBLISH
BEGIN:VEVENT
DTSTAMP:20260425T213638Z
UID:16-263795@htacc.ca
DTSTART:20260906T140000Z
DTEND:20260906T150000Z
CLASS:PUBLIC
CREATED:20260425T144011
DESCRIPTION:Join us for worship with Rev. Dave Matthews leading us in the l
 anguage of the Book of Common Prayer connecting us to the historical roots
  of our faith. 
LAST-MODIFIED:20260425T144011
LOCATION:18 Hidden Creek Rd NW\, Calgary\, AB
SUMMARY:Traditional Christian Service
URL;VALUE=URI:https://www.htacc.ca/events/traditional-christian-service/202
 6-09-06
END:VEVENT
END:VCALENDAR
