BEGIN:VCALENDAR
VERSION:2.0
PRODID:icalendar-ruby
CALSCALE:GREGORIAN
METHOD:PUBLISH
BEGIN:VEVENT
DTSTAMP:20260426T040719Z
UID:16-264049@htacc.ca
DTSTART:20261004T140000Z
DTEND:20261004T150000Z
CLASS:PUBLIC
CREATED:20260425T200422
DESCRIPTION:Join us for worship with Rev. Dave Matthews leading us in the l
 anguage of the Book of Common Prayer connecting us to the historical roots
  of our faith. 
LAST-MODIFIED:20260425T200422
LOCATION:18 Hidden Creek Rd NW\, Calgary\, AB
SUMMARY:Traditional Christian Service
URL;VALUE=URI:https://www.htacc.ca/events/traditional-christian-service/202
 6-10-04
END:VEVENT
END:VCALENDAR
